BEGIN:VCALENDAR
VERSION:2.0
PRODID:-//Tukios.com/
BEGIN:VEVENT
UID:9380bc46-b0a8-4b91-aaf1-385d0a48edd3@www.cressfuneralservice.com
DTSTAMP:20260423T234546Z
DTSTART:20260514T210000Z
DTEND:20260515T000000Z
SUMMARY:Celebration of Life
DESCRIPTION:
URL:https://www.cressfuneralservice.com/obituaries/vicki-mccaulley
LOCATION: 6021 University Ave  Madison WI 53705
GEO:43.0881724;-89.4843013
END:VEVENT
END:VCALENDAR