BEGIN:VCALENDAR
VERSION:2.0
PRODID:-//Tukios.com/
BEGIN:VEVENT
UID:e4c9728d-8270-43ec-b0c6-19f17102c5d4@www.cressfuneralservice.com
DTSTAMP:20260424T000036Z
DTSTART:20260822T160000Z
DTEND:20260822T170000Z
SUMMARY:Celebration of Life
DESCRIPTION:
URL:https://www.cressfuneralservice.com/obituaries/patrick-scott
LOCATION:Cress Center 6021 University Ave  Madison WI 53705
GEO:43.0881724;-89.4843013
END:VEVENT
END:VCALENDAR