BEGIN:VCALENDAR
VERSION:2.0
PRODID:-//Tukios.com/
BEGIN:VEVENT
UID:d8be248e-63de-4843-8655-5892f03b08d2@www.cressfuneralservice.com
DTSTAMP:20260425T024202Z
DTSTART:20260507T160000Z
DTEND:20260507T170000Z
SUMMARY:Celebration of Life
DESCRIPTION:
URL:https://www.cressfuneralservice.com/obituaries/patricia-smith
LOCATION:Cress Center 6021 University Ave  Madison WI 53705
GEO:43.0881724;-89.4843013
END:VEVENT
END:VCALENDAR