BEGIN:VCALENDAR
VERSION:2.0
PRODID:-//Tukios.com/
BEGIN:VEVENT
UID:353a19d7-4a79-48a0-8431-c9dc87fd3a70@www.cressfuneralservice.com
DTSTAMP:20260425T024202Z
DTSTART:20260507T150000Z
DTEND:20260507T160000Z
SUMMARY:Visitation
DESCRIPTION:
URL:https://www.cressfuneralservice.com/obituaries/patricia-smith
LOCATION:Cress Center 6021 University Ave  Madison WI 53705
GEO:43.0881724;-89.4843013
END:VEVENT
END:VCALENDAR