BEGIN:VCALENDAR
VERSION:2.0
PRODID:-//Tukios.com/
BEGIN:VEVENT
UID:490b4cbb-9c36-4324-a9e2-7ac4a1c6ea6d@www.cressfuneralservice.com
DTSTAMP:20260425T221740Z
DTSTART:20260530T190000Z
DTEND:20260530T200000Z
SUMMARY:Celebration of Life
DESCRIPTION:
URL:https://www.cressfuneralservice.com/obituaries/nancy-ragland
LOCATION: 900 University Bay Dr  Madison WI 53705
GEO:43.0755402;-89.4355722
END:VEVENT
END:VCALENDAR