BEGIN:VCALENDAR
VERSION:2.0
PRODID:-//Tukios.com/
BEGIN:VEVENT
UID:9a916a0f-2d3f-45ae-86e7-4112a6a03b8f@www.cressfuneralservice.com
DTSTAMP:20260422T084256Z
DTSTART:20260426T183000Z
DTEND:20260426T213000Z
SUMMARY:Celebration of Life
DESCRIPTION:
URL:https://www.cressfuneralservice.com/obituaries/nancy-legler
LOCATION:The Edgewater Hotel 1001 Wisconsin Ave  Madison WI 53703
GEO:43.0792458;-89.3903151
END:VEVENT
END:VCALENDAR