BEGIN:VCALENDAR
VERSION:2.0
PRODID:-//Tukios.com/
BEGIN:VEVENT
UID:77016d4f-ba88-4898-a177-bdec9c4c0c01@www.cressfuneralservice.com
DTSTAMP:20260421T044237Z
DTSTART:20260426T170000Z
DTEND:20260426T190000Z
SUMMARY:Celebration of Life
DESCRIPTION:
URL:https://www.cressfuneralservice.com/obituaries/john-icke
LOCATION:Blackhawk Country Club 3606 Blackhawk Dr  Madison WI 53705
GEO:43.0791084;-89.4544413
END:VEVENT
END:VCALENDAR