BEGIN:VCALENDAR
VERSION:2.0
PRODID:-//Tukios.com/
BEGIN:VEVENT
UID:0b2f9ac0-6dce-4de2-951b-8ef85fe440c5@www.cressfuneralservice.com
DTSTAMP:20260422T180259Z
DTSTART:20260506
SUMMARY:Graveside Service For Family Per Beth's Request
DESCRIPTION:
URL:https://www.cressfuneralservice.com/obituaries/elizabeth-tuckwell
LOCATION: 1721 Duck Creek Rd  Cincinatti OH 45207
GEO:39.1400438;-84.4694383
END:VEVENT
END:VCALENDAR