BEGIN:VCALENDAR
VERSION:2.0
PRODID:-//Tukios.com/
BEGIN:VEVENT
UID:4534e55e-a71d-401b-901c-8d401c583805@www.cressfuneralservice.com
DTSTAMP:20260425T185012Z
DTSTART:20260522T170000Z
DTEND:20260522T180000Z
SUMMARY:Celebration of Life
DESCRIPTION:
URL:https://www.cressfuneralservice.com/obituaries/donald-fornasiere
LOCATION: 1310 Emerald Terrace  Sun Prairie WI 53590
GEO:43.185056;-89.2348043
END:VEVENT
END:VCALENDAR