BEGIN:VCALENDAR
VERSION:2.0
PRODID:-//Tukios.com/
BEGIN:VEVENT
UID:6f1d8e12-6e4a-40e1-a2f9-dd3b3a0a0125@www.cressfuneralservice.com
DTSTAMP:20260425T184853Z
DTSTART:20260522T150000Z
DTEND:20260522T170000Z
SUMMARY:Visitation
DESCRIPTION:
URL:https://www.cressfuneralservice.com/obituaries/donald-fornasiere
LOCATION: 1310 Emerald Terrace  Sun Prairie WI 53590
GEO:43.185056;-89.2348043
END:VEVENT
END:VCALENDAR